BEGIN:VCALENDAR
VERSION:2.0
PRODID:-//HPCOmaha - ECPv6.15.17.1//NONSGML v1.0//EN
CALSCALE:GREGORIAN
METHOD:PUBLISH
X-ORIGINAL-URL:https://hpcomaha.org
X-WR-CALDESC:Events for HPCOmaha
REFRESH-INTERVAL;VALUE=DURATION:PT1H
X-Robots-Tag:noindex
X-PUBLISHED-TTL:PT1H
BEGIN:VTIMEZONE
TZID:America/Chicago
BEGIN:DAYLIGHT
TZOFFSETFROM:-0600
TZOFFSETTO:-0500
TZNAME:CDT
DTSTART:20250309T080000
END:DAYLIGHT
BEGIN:STANDARD
TZOFFSETFROM:-0500
TZOFFSETTO:-0600
TZNAME:CST
DTSTART:20251102T070000
END:STANDARD
BEGIN:DAYLIGHT
TZOFFSETFROM:-0600
TZOFFSETTO:-0500
TZNAME:CDT
DTSTART:20260308T080000
END:DAYLIGHT
BEGIN:STANDARD
TZOFFSETFROM:-0500
TZOFFSETTO:-0600
TZNAME:CST
DTSTART:20261101T070000
END:STANDARD
BEGIN:DAYLIGHT
TZOFFSETFROM:-0600
TZOFFSETTO:-0500
TZNAME:CDT
DTSTART:20270314T080000
END:DAYLIGHT
BEGIN:STANDARD
TZOFFSETFROM:-0500
TZOFFSETTO:-0600
TZNAME:CST
DTSTART:20271107T070000
END:STANDARD
END:VTIMEZONE
BEGIN:VEVENT
DTSTART;TZID=America/Chicago:20260426T090000
DTEND;TZID=America/Chicago:20260426T094500
DTSTAMP:20260425T115302
CREATED:20251028T164837Z
LAST-MODIFIED:20251028T165832Z
UID:10006099-1777194000-1777196700@hpcomaha.org
SUMMARY:Faith Formation
DESCRIPTION:
URL:https://hpcomaha.org/event/faith-formation/2026-04-26/
LOCATION:Hope Presbyterian Church\, 5220 S 159th Ave\, Omaha\, NE\, 68135\, United States
CATEGORIES:Adult Study,Children,Youth
ATTACH;FMTTYPE=image/jpeg:https://hpcomaha.org/wp-content/uploads/2024/08/FF-2024.jpg
END:VEVENT
BEGIN:VEVENT
DTSTART;TZID=America/Chicago:20260426T090000
DTEND;TZID=America/Chicago:20260426T113000
DTSTAMP:20260425T115302
CREATED:20260420T201846Z
LAST-MODIFIED:20260420T201847Z
UID:10006398-1777194000-1777203000@hpcomaha.org
SUMMARY:Directory Photos
DESCRIPTION:Hopefuls\, it’s been a while since we updated directory photos. These photos help us get to know one another. We’re offering the opportunity for photos on April 26 and May 3\, before and after worship. Directory photos are associated with your household\, so make sure everyone is looking their best and we’ll snap a pic for you! We will also have people available to help you update information or learn how to use the app.
URL:https://hpcomaha.org/event/directory-photos/
LOCATION:Hope Presbyterian Church\, 5220 S 159th Ave\, Omaha\, NE\, 68135\, United States
ATTACH;FMTTYPE=image/png:https://hpcomaha.org/wp-content/uploads/2026/04/Directory-Photos.png
ORGANIZER;CN="Hope Presbyterian Church":MAILTO:office@hpcomaha.org
END:VEVENT
BEGIN:VEVENT
DTSTART;TZID=America/Chicago:20260426T100000
DTEND;TZID=America/Chicago:20260426T110000
DTSTAMP:20260425T115302
CREATED:20251214T180829Z
LAST-MODIFIED:20260414T153422Z
UID:10006207-1777197600-1777201200@hpcomaha.org
SUMMARY:Sermon Series: #adulting
DESCRIPTION:  \nServices are live-streamed here
URL:https://hpcomaha.org/event/sermon-series-adulting/2026-04-26/
LOCATION:Hope Presbyterian Church\, 5220 S 159th Ave\, Omaha\, NE\, 68135\, United States
CATEGORIES:Worship,Worship Service
ATTACH;FMTTYPE=image/png:https://hpcomaha.org/wp-content/uploads/2026/04/Adulting-Series-April-12-to-May-17-1.png
ORGANIZER;CN="Hope Presbyterian Church":MAILTO:office@hpcomaha.org
END:VEVENT
BEGIN:VEVENT
DTSTART;TZID=America/Chicago:20260426T170000
DTEND;TZID=America/Chicago:20260426T190000
DTSTAMP:20260425T115302
CREATED:20250520T042642Z
LAST-MODIFIED:20250903T223635Z
UID:10005091-1777222800-1777230000@hpcomaha.org
SUMMARY:Youth Group
DESCRIPTION:For youth in grades 6-12\, come enjoy a great time with some friends while we learn about the Word of God and grow together in faith.
URL:https://hpcomaha.org/event/youth-group-2/2026-04-26/
LOCATION:Hope Presbyterian Church\, 5220 S 159th Ave\, Omaha\, NE\, 68135\, United States
CATEGORIES:Youth
ATTACH;FMTTYPE=image/png:https://hpcomaha.org/wp-content/uploads/2025/02/Youth-Group-2025.png
ORGANIZER;CN="Hope Presbyterian Church":MAILTO:office@hpcomaha.org
END:VEVENT
BEGIN:VEVENT
DTSTART;TZID=America/Chicago:20260426T180000
DTEND;TZID=America/Chicago:20260426T200000
DTSTAMP:20260425T115302
CREATED:20260414T152713Z
LAST-MODIFIED:20260414T152713Z
UID:10006392-1777226400-1777233600@hpcomaha.org
SUMMARY:Crossroads Connection
DESCRIPTION:Hope will be hosting a worship service and a potluck meal for Crossroads Connection of Omaha on Sunday\, April 26\, from 6:00 to 8:00 pm. Crossroads Connection is a Christian community of faith in support of incarcerated men and their families. Crossroads Connection was formed in 2001 though the vision of Reverend Roy Fox\, a former Hope pastor\, with a goal of meeting the needs of those imprisoned\, including assisting them in their transition back into society through the caring support of Christ’s followers. \nPlease sign up at the Welcome Center if you will be coming\, so we can get a headcount for dinner. \nIf you would like to bring a dish to share at the potluck dinner\, please copy and paste this link into your web browser to use the Sign Up Genius: \nhttps://www.signupgenius.com/go/8050F4DA4A72DABF94-63278934-crossroads#/ \n“…I was in prison and you came to visit me.”  Matthew 25:36 (NIV)
URL:https://hpcomaha.org/event/crossroads-connection/
LOCATION:Hope Presbyterian Church\, 5220 S 159th Ave\, Omaha\, NE\, 68135\, United States
CATEGORIES:Mission
ATTACH;FMTTYPE=image/png:https://hpcomaha.org/wp-content/uploads/2026/04/Copy-of-2025-640x320-PMRV-Email.png
ORGANIZER;CN="Hope Presbyterian Church":MAILTO:office@hpcomaha.org
END:VEVENT
BEGIN:VEVENT
DTSTART;TZID=America/Chicago:20260427T090000
DTEND;TZID=America/Chicago:20260427T120000
DTSTAMP:20260425T115302
CREATED:20241211T171144Z
LAST-MODIFIED:20241211T172338Z
UID:10005425-1777280400-1777291200@hpcomaha.org
SUMMARY:Pantry of Hope
DESCRIPTION:Our Pantry of Hope is open to all in our community who may be facing food insecurity. Each Monday from 9 am to 12 pm anyone can come to receive items free of charge from our pantry.
URL:https://hpcomaha.org/event/pantry-of-hope-2/2026-04-27/
LOCATION:Hope Presbyterian Church\, 5220 S 159th Ave\, Omaha\, NE\, 68135\, United States
ATTACH;FMTTYPE=image/jpeg:https://hpcomaha.org/wp-content/uploads/2024/12/Pantry-of-Hope-event.jpg
ORGANIZER;CN="Hope Presbyterian Church":MAILTO:office@hpcomaha.org
END:VEVENT
BEGIN:VEVENT
DTSTART;TZID=America/Chicago:20260427T130000
DTEND;TZID=America/Chicago:20260427T150000
DTSTAMP:20260425T115302
CREATED:20230326T184505Z
LAST-MODIFIED:20241204T160130Z
UID:10000164-1777294800-1777302000@hpcomaha.org
SUMMARY:Prayer Shawl Group
DESCRIPTION:The Prayer Shawl Group meets each Monday from 1 pm – 3 pm. All are welcome!
URL:https://hpcomaha.org/event/prayer-shawl-group/2026-04-27/
LOCATION:Hope Presbyterian Church\, 5220 S 159th Ave\, Omaha\, NE\, 68135\, United States
CATEGORIES:Fellowship
ATTACH;FMTTYPE=image/jpeg:https://hpcomaha.org/wp-content/uploads/2023/03/Beige-White-Natural-Aesthetic-New-Collection-Photo-Collage-Facebook-Cover-2.jpg
END:VEVENT
BEGIN:VEVENT
DTSTART;TZID=America/Chicago:20260429T181500
DTEND;TZID=America/Chicago:20260429T200000
DTSTAMP:20260425T115302
CREATED:20250903T221829Z
LAST-MODIFIED:20250903T221829Z
UID:10006023-1777486500-1777492800@hpcomaha.org
SUMMARY:Choir & Bells
DESCRIPTION:Hope’s choir and bell choir rehearse on Wednesday evenings. No audition or musical experience is required\, just a desire to praise God with music. \nBell Choir – 6:15 pm – 7:00 pm \nChoir – 7:00 pm – 8:00 pm
URL:https://hpcomaha.org/event/choir-bells-2/2026-04-29/
LOCATION:Hope Presbyterian Church\, 5220 S 159th Ave\, Omaha\, NE\, 68135\, United States
CATEGORIES:Music,Worship
ATTACH;FMTTYPE=image/png:https://hpcomaha.org/wp-content/uploads/2023/09/Choir-Bells-2023_1.png
END:VEVENT
BEGIN:VEVENT
DTSTART;TZID=America/Chicago:20260430T110000
DTEND;TZID=America/Chicago:20260430T123000
DTSTAMP:20260425T115302
CREATED:20250610T163711Z
LAST-MODIFIED:20251222T222927Z
UID:10002613-1777546800-1777552200@hpcomaha.org
SUMMARY:Sermon Based Bible Study
DESCRIPTION:Thursdays at 11:00 AM \nJoin us for a closer look at the scriptures from the previous week’s sermon.
URL:https://hpcomaha.org/event/sermon-based-bible-study-thursday-2-2-2/2026-04-30/
LOCATION:Hope Presbyterian Church\, 5220 S 159th Ave\, Omaha\, NE\, 68135\, United States
CATEGORIES:Adult Study
ATTACH;FMTTYPE=image/jpeg:https://hpcomaha.org/wp-content/uploads/2023/09/Sermon-based-bible-study-2024.jpg
END:VEVENT
END:VCALENDAR